BEGIN:VCALENDAR
VERSION:2.0
PRODID:-//ChamberMaster//Event Calendar 2.0//EN
METHOD:PUBLISH
X-PUBLISHED-TTL:P3D
REFRESH-INTERVAL:P3D
CALSCALE:GREGORIAN
BEGIN:VEVENT
DTSTART:20190914T120000Z
DTEND:20190914T160000Z
X-MICROSOFT-CDO-ALLDAYEVENT:FALSE
SUMMARY:Coffee & Coverage
DESCRIPTION:Neighbor and Family Heritage Representative\, Tom Hickey will be available to discuss supplemental coverage for cancer\, heart attack and stroke\, accidents\, and ICU coverage for SRC residents. Family Heritage plans are guaranteed renewable. The plans include No Lifetime Limits and Return of Premium benefits. If you are interested in learning more\, but are not able to attend please contact Tom at (912)321-8978\, or thickey@protect1family.com
X-ALT-DESC;FMTTYPE=text/html:<span style="color:rgb(49\, 49\, 49)\; font-family:arial\,helvetica\,sans-serif">Neighbor and Family Heritage Representative\, Tom Hickey will be available to discuss supplemental coverage for cancer\, heart attack and stroke\, accidents\, and ICU coverage for SRC residents. Family Heritage plans are guaranteed renewable. The plans include No Lifetime Limits and Return of Premium benefits. If you are interested in learning more\, but are not able to attend please contact Tom at&nbsp\;</span><a dir="ltr" href="tel:(912)321-8978" style="color: rgb(17\, 85\, 204)\; font-family: Arial\, Helvetica\, sans-serif\; word-spacing: 1px\;" target="_blank">(912)321-8978</a><span style="color:rgb(49\, 49\, 49)\; font-family:arial\,helvetica\,sans-serif">\, or&nbsp\;</span><a href="mailto:thickey@protect1family.com" style="font-size: 1rem\; color: rgb(17\, 85\, 204)\; font-family: Arial\, Helvetica\, sans-serif\; word-spacing: 1px\;" target="_blank">thickey@protect1family.com</a>
LOCATION:109 Shoal Wood Drive\, Lexington\, SC 29072
UID:e.1333.3368
SEQUENCE:3
DTSTAMP:20260422T185219Z
URL:https://business.greaterirmochamber.com/events/details/coffee-coverage-3368
END:VEVENT

END:VCALENDAR
