BEGIN:VCALENDAR
VERSION:2.0
PRODID:-//ChamberMaster//Event Calendar 2.0//EN
METHOD:PUBLISH
X-PUBLISHED-TTL:P3D
REFRESH-INTERVAL:P3D
CALSCALE:GREGORIAN
BEGIN:VEVENT
DTSTART:20171012T113000Z
DTEND:20171012T123000Z
X-MICROSOFT-CDO-ALLDAYEVENT:FALSE
SUMMARY:Coffee Talk: Cyber Security Tips for Small Businesses
DESCRIPTION:Coffee Talk:  Cyber Security Tips for Small Businesses\n\nJoin us for coffee and donuts and learn about cyber security threats to your business and what you can do to protect yourself.\n\nKimico Myers\, SCORE Midlands Chapter/Owner of TeamLogic IT
X-ALT-DESC;FMTTYPE=text/html:Coffee Talk: &nbsp\;Cyber Security Tips for Small Businesses<br />\nJoin us for coffee and donuts and learn about cyber security threats to your business and what you can do to protect yourself.<br />\nKimico Myers\, SCORE Midlands Chapter/Owner of TeamLogic IT
LOCATION:Greater Irmo Chamber of Commerce 1235 Columbia Avenue Irmo\, SC 29063
UID:e.1333.2904
SEQUENCE:3
DTSTAMP:20260424T064948Z
URL:https://business.greaterirmochamber.com/events/details/coffee-talk-cyber-security-tips-for-small-businesses-2904
END:VEVENT

END:VCALENDAR
