BEGIN:VCALENDAR
VERSION:2.0
PRODID:-//ChamberMaster//Event Calendar 2.0//EN
METHOD:PUBLISH
X-PUBLISHED-TTL:P3D
REFRESH-INTERVAL:P3D
CALSCALE:GREGORIAN
BEGIN:VEVENT
DTSTART:20170622T113000Z
DTEND:20170622T123000Z
X-MICROSOFT-CDO-ALLDAYEVENT:FALSE
SUMMARY:Coffee Talk with SCORE: "How to Manage Cash For Success"
DESCRIPTION:A time-worn axiom of business states "When you're out of cash\, you're out of business\," which\, of course\, seems totally logical.  However\, just keeping track of your business checking account balance is not enough to assure you don't become a victim of this axiom.  A deeper understanding of cash management principles is needed.  Join us at 7:30 am on June 22nd when small business mentor John LaFond of the SCORE Midlands chapter based in Columbia will present an overview of "How to Manage Cash for Success."  Coffee and doughnuts provided.
X-ALT-DESC;FMTTYPE=text/html:<span style="font-size:12pt\;">A time-worn axiom of business states &ldquo\;When you&rsquo\;re out of cash\, you&rsquo\;re out of business\,&rdquo\; which\, of course\, seems totally logical.&nbsp\;&nbsp\;However\, just keeping track of your business checking account balance is not enough to assure you don&rsquo\;t become a victim of this axiom.&nbsp\;&nbsp\;A deeper understanding of cash management principles is needed.&nbsp\;&nbsp\;</span><span style="font-size:12pt\;">Join us at 7:30 am on June 22<sup>nd</sup>&nbsp\;when small business mentor John LaFond of the SCORE Midlands chapter based in Columbia will present an overview of &ldquo\;How to Manage Cash for Success.&rdquo\; &nbsp\;Coffee and doughnuts provided.</span>
LOCATION:Greater Irmo Chamber of Commerce 1235 Columbia Ave. Irmo\, SC 29063
UID:e.1333.2777
SEQUENCE:3
DTSTAMP:20260424T125322Z
URL:https://business.greaterirmochamber.com/events/details/coffee-talk-with-score-how-to-manage-cash-for-success-2777
END:VEVENT

END:VCALENDAR
