BEGIN:VCALENDAR
VERSION:2.0
PRODID:-//ChamberMaster//Event Calendar 2.0//EN
METHOD:PUBLISH
X-PUBLISHED-TTL:P3D
REFRESH-INTERVAL:P3D
CALSCALE:GREGORIAN
BEGIN:VEVENT
DTSTART:20170824T113000Z
DTEND:20170824T123000Z
X-MICROSOFT-CDO-ALLDAYEVENT:FALSE
SUMMARY:Coffee Talk with SCORE: Using Marketing To Increase Leads and Profitability
DESCRIPTION:Ron Barnes\, Director of NewBizLiftOff.com and a business mentor with the SCORE Midlands Chapter\, will be doing a FREE seminar focusing on using marketing to increase leads and profitability. We'll have coffee and donuts here at the Chamber to help you start off your day! This is a free seminar but seating is limited so please register online or call the Chamber to reserve your seat. 803-749-9355
X-ALT-DESC;FMTTYPE=text/html:<span style="color: rgb(29\, 33\, 41)\; font-family: 'SF Optimized'\, system-ui\, -apple-system\, BlinkMacSystemFont\, '.SFNSText-Regular'\, sans-serif\; font-size: 12px\; letter-spacing: -0.11999999731779099px\; white-space: pre-wrap\;"><strong>Ron Barnes</strong>\, <strong>Director of NewBizLiftOff.com</strong> and a business mentor with the <strong>SCORE Midlands Chapter</strong>\, will be doing a <strong>FREE</strong> seminar focusing on using marketing to increase leads and profitability. We&#39\;ll have coffee and donuts here at the Chamber to help you start off your day! This is a free seminar but seating is limited so <strong>please register online</strong> or call the Chamber to reserve your seat. 803-749-9355</span>
LOCATION:Greater Irmo Chamber of Commerce 1235 Columbia Ave. Irmo\, SC 29063
UID:e.1333.2892
SEQUENCE:3
DTSTAMP:20260424T095353Z
URL:https://business.greaterirmochamber.com/events/details/coffee-talk-with-score-using-marketing-to-increase-leads-and-profitability-2892
END:VEVENT

END:VCALENDAR
