BEGIN:VCALENDAR
VERSION:2.0
PRODID:-//ChamberMaster//Event Calendar 2.0//EN
METHOD:PUBLISH
X-PUBLISHED-TTL:P3D
REFRESH-INTERVAL:P3D
CALSCALE:GREGORIAN
BEGIN:VEVENT
DTSTART:20181030T120000Z
DTEND:20181030T130000Z
X-MICROSOFT-CDO-ALLDAYEVENT:FALSE
SUMMARY:Coffee with a Cop
DESCRIPTION:Citizens are encouraged to join the Irmo Police Department on Tuesday\, October 30\, 2018 from 8am to 9am for the department's latest "Coffee with a Cop" event. Officers from the Irmo Police Department will be available to answer law enforcement related questions during the event. Citizens can also voice concerns related to the neighborhoods where they live in an informal setting.
X-ALT-DESC;FMTTYPE=text/html:<span style="caret-color: rgb(29\, 33\, 41)\; color: rgb(29\, 33\, 41)\; font-family: system-ui\, -apple-system\, BlinkMacSystemFont\, &quot\;.SFNSText-Regular&quot\;\, sans-serif\; font-size: 14px\;">Citizens are encouraged to join the Irmo Police Department on Tuesday\, October 30\, 2018 from 8am to 9am for the department&rsquo\;s latest &ldquo\;Coffee with a Cop&rdquo\; event. Officers from the Irmo Police Department will be available to answer law enforcement related questions during the event. Citizens can also voice concerns related to the neighborhoods where they live in an informal setting.</span>
LOCATION:Greater Irmo Chamber of Commerce 1235 Columbia Ave. Irmo\, SC 29063
UID:e.1333.3277
SEQUENCE:3
DTSTAMP:20260423T115346Z
URL:https://business.greaterirmochamber.com/events/details/coffee-with-a-cop-3277
END:VEVENT

END:VCALENDAR
