BEGIN:VCALENDAR
VERSION:2.0
PRODID:-//ChamberMaster//Event Calendar 2.0//EN
METHOD:PUBLISH
X-PUBLISHED-TTL:P3D
REFRESH-INTERVAL:P3D
CALSCALE:GREGORIAN
BEGIN:VEVENT
DTSTART:20170228T163000Z
DTEND:20170228T173000Z
X-MICROSOFT-CDO-ALLDAYEVENT:FALSE
SUMMARY:Coldiron & Associates/Allstate Insurance Agency Ribbon Cutting
DESCRIPTION:Join us to welcome Coldiron & Associates/Allstate Insurance Agency\n\nto our Chamber.  A light lunch will be provided.
X-ALT-DESC;FMTTYPE=text/html:Join us to welcome Coldiron &amp\; Associates/Allstate Insurance Agency<br />\nto our Chamber. &nbsp\;A light lunch will be provided.
LOCATION:10628 Broad River Road\, Suite A Irmo\, SC 29063
UID:e.1333.2521
SEQUENCE:3
DTSTAMP:20260424T185519Z
URL:https://business.greaterirmochamber.com/events/details/coldiron-associates-allstate-insurance-agency-ribbon-cutting-2521
END:VEVENT

END:VCALENDAR
