BEGIN:VCALENDAR
VERSION:2.0
PRODID:-//ChamberMaster//Event Calendar 2.0//EN
METHOD:PUBLISH
X-PUBLISHED-TTL:P3D
REFRESH-INTERVAL:P3D
CALSCALE:GREGORIAN
BEGIN:VEVENT
DTSTART:20161018T153000Z
DTEND:20161018T180000Z
X-MICROSOFT-CDO-ALLDAYEVENT:FALSE
SUMMARY:Coldwell Banker Real Estate Chili Tailgate Fundraiser
DESCRIPTION:The 4th Annual Chili Tailgate Fundraiser to benefit Sharing God's Love Crisis Ministry will be held on Tuesday\, Oct. 18th from 11:30am - 2:00pm at 1401 St. Andrews Rd.\, Columbia\, South Carolina   29210. Get a delicious bowl with all the fixins for a donation to Sharing God's Love.
X-ALT-DESC;FMTTYPE=text/html:The 4th Annual Chili Tailgate Fundraiser to benefit Sharing God&#39\;s Love Crisis Ministry will be held on Tuesday\, Oct. 18th from 11:30am - 2:00pm at&nbsp\;1401 St. Andrews Rd.\, Columbia\, South Carolina &nbsp\; 29210. Get a delicious bowl with all the fixins for a donation to Sharing God&#39\;s Love.
LOCATION:1401 St. Andrews Rd.\, Columbia\, South Carolina 29210.
UID:e.1333.2493
SEQUENCE:3
DTSTAMP:20260425T003140Z
URL:https://business.greaterirmochamber.com/events/details/coldwell-banker-real-estate-chili-tailgate-fundraiser-2493
END:VEVENT

END:VCALENDAR
