BEGIN:VCALENDAR
VERSION:2.0
PRODID:-//ChamberMaster//Event Calendar 2.0//EN
METHOD:PUBLISH
X-PUBLISHED-TTL:P3D
REFRESH-INTERVAL:P3D
CALSCALE:GREGORIAN
BEGIN:VEVENT
DTSTART:20200314T193000Z
DTEND:20200314T213000Z
X-MICROSOFT-CDO-ALLDAYEVENT:FALSE
SUMMARY:Columbia Children's Theatre: Goldilocks and the Three Bears
DESCRIPTION:Award-winning writers George Stiles and Anthony Drewe (Honk!\, Mary Poppins) inject a bear-sized helping of music and mayhem into this classic fairy tale\, making it "just right" for the entire family. Goldilocks\, on a trip into the forest\, ventures into a seemingly uninhabited house. In the process of making herself feel at home\, she turns the place into a gigantic mess! Little does she know that the house belongs to a family of three bears who will not be too pleased.
X-ALT-DESC;FMTTYPE=text/html:Award-winning writers George Stiles and Anthony Drewe (Honk!\, Mary Poppins) inject a bear-sized helping of music and mayhem into this classic fairy tale\, making it &ldquo\;just right&rdquo\; for the entire family. Goldilocks\, on a trip into the forest\, ventures into a seemingly uninhabited house. In the process of making herself feel at home\, she turns the place into a gigantic mess! Little does she know that the house belongs to a family of three bears&hellip\;who will not be too pleased.
LOCATION:Harbison Theatre at Midlands Technical College
UID:e.1333.3410
SEQUENCE:3
DTSTAMP:20260422T100731Z
URL:https://business.greaterirmochamber.com/events/details/columbia-children-s-theatre-goldilocks-and-the-three-bears-3410
END:VEVENT

END:VCALENDAR
