BEGIN:VCALENDAR
VERSION:2.0
PRODID:-//ChamberMaster//Event Calendar 2.0//EN
METHOD:PUBLISH
X-PUBLISHED-TTL:P3D
REFRESH-INTERVAL:P3D
CALSCALE:GREGORIAN
BEGIN:VEVENT
DTSTART:20190317T160000Z
DTEND:20190317T160000Z
X-MICROSOFT-CDO-ALLDAYEVENT:FALSE
SUMMARY:Columbia Children's Theatre Presents: Peter Pan and Wendy
DESCRIPTION:Full of enchanting music and beloved characters\, this fast-paced adaptation of J.M. Barrie's Peter and Wendy by the Chicago-based team of Alyn Cardarelli and Steve Goers is a treat for children of any age.
X-ALT-DESC;FMTTYPE=text/html:Full of enchanting music and beloved characters\, this fast-paced adaptation of J.M. Barrie&rsquo\;s&nbsp\;Peter and Wendy&nbsp\;by the Chicago-based team of Alyn Cardarelli and Steve Goers is a treat for children of any age.
LOCATION:Harbison Theatre at Midlands Technical College 7300 College Street Irmo\, SC 29063
UID:e.1333.3240
SEQUENCE:3
DTSTAMP:20260423T040203Z
URL:https://business.greaterirmochamber.com/events/details/columbia-children-s-theatre-presents-peter-pan-and-wendy-3240
END:VEVENT

END:VCALENDAR
