BEGIN:VCALENDAR
VERSION:2.0
PRODID:-//ChamberMaster//Event Calendar 2.0//EN
METHOD:PUBLISH
X-PUBLISHED-TTL:P3D
REFRESH-INTERVAL:P3D
CALSCALE:GREGORIAN
BEGIN:VEVENT
DTSTART:20191221T203000Z
DTEND:20191221T223000Z
X-MICROSOFT-CDO-ALLDAYEVENT:FALSE
SUMMARY:Columbia Children's Theatre presents: Santa Claus The Musical
DESCRIPTION:After 1\,000 years of making lists and checking them twice\, Santa Claus is ready to retire. Can anyone take his place? Who will manage the North Pole? Join Columbia Children's Theatre for this delightful\, hilarious musical that features the big man himself and plenty of his tiny\, helpful friends as they work to solve this dilemma. And don't forget\, Santa and his elves will meet you in the lobby after the show!
X-ALT-DESC;FMTTYPE=text/html:After 1\,000 years of making lists and checking them twice\, Santa Claus is ready to retire. Can anyone take his place? Who will manage the North Pole? Join Columbia Children&rsquo\;s Theatre for this delightful\, hilarious musical that features the big man himself and plenty of his tiny\, helpful friends as they work to solve this dilemma. And don&rsquo\;t forget\, Santa and his elves will meet you in the lobby after the show!
LOCATION:Harbison Theatre at Midlands Technical College
UID:e.1333.3394
SEQUENCE:3
DTSTAMP:20260422T161530Z
URL:https://business.greaterirmochamber.com/events/details/columbia-children-s-theatre-presents-santa-claus-the-musical-3394
END:VEVENT

END:VCALENDAR
