BEGIN:VCALENDAR
VERSION:2.0
PRODID:-//ChamberMaster//Event Calendar 2.0//EN
METHOD:PUBLISH
X-PUBLISHED-TTL:P3D
REFRESH-INTERVAL:P3D
CALSCALE:GREGORIAN
BEGIN:VEVENT
DTSTART:20180930T160000Z
DTEND:20180930T160000Z
X-MICROSOFT-CDO-ALLDAYEVENT:FALSE
SUMMARY:Columbia Children's Theatre Presents: School House Rock Live!
DESCRIPTION:Based on the 1970s cartoon\, this pop culture phenomenon is a fast-paced musical that teaches lessons with clever\, catchy tunes.
X-ALT-DESC;FMTTYPE=text/html:Based on the 1970s cartoon\, this pop culture phenomenon is a fast-paced musical that teaches lessons with clever\, catchy tunes.
LOCATION:Harbison Theatre at Midlands Technical College 7300 College Street Irmo\, SC 29063
UID:e.1333.3229
SEQUENCE:3
DTSTAMP:20260423T133853Z
URL:https://business.greaterirmochamber.com/events/details/columbia-children-s-theatre-presents-school-house-rock-live-3229
END:VEVENT

END:VCALENDAR
