BEGIN:VCALENDAR
VERSION:2.0
PRODID:-//ChamberMaster//Event Calendar 2.0//EN
METHOD:PUBLISH
X-PUBLISHED-TTL:P3D
REFRESH-INTERVAL:P3D
CALSCALE:GREGORIAN
BEGIN:VEVENT
DTSTART:20190504T160000Z
DTEND:20190504T160000Z
X-MICROSOFT-CDO-ALLDAYEVENT:FALSE
SUMMARY:Columbia Children's Theatre Presents: Shine
DESCRIPTION:In conjunction with IndigoSOUL\, Columbia Children's Theatre presents this original musical fable that follows a young boy on his journey to find his "light."
X-ALT-DESC;FMTTYPE=text/html:In conjunction with IndigoSOUL\, Columbia Children&rsquo\;s Theatre presents this original musical fable that follows a young boy on his journey to find his &ldquo\;light.&rdquo\;
LOCATION:Harbison Theatre at Midlands Technical College 7300 College Street Irmo\, SC 29063
UID:e.1333.3247
SEQUENCE:3
DTSTAMP:20260423T023318Z
URL:https://business.greaterirmochamber.com/events/details/columbia-children-s-theatre-presents-shine-3247
END:VEVENT

END:VCALENDAR
