BEGIN:VCALENDAR
VERSION:2.0
PRODID:-//ChamberMaster//Event Calendar 2.0//EN
METHOD:PUBLISH
X-PUBLISHED-TTL:P3D
REFRESH-INTERVAL:P3D
CALSCALE:GREGORIAN
BEGIN:VEVENT
DTSTART:20180618T230000Z
DTEND:20180619T010000Z
X-MICROSOFT-CDO-ALLDAYEVENT:FALSE
SUMMARY:Columbia Fashion Week: Night 1 "Pressed"
DESCRIPTION:Event for members of the media. Bloggers\, journalists\, fashion influencers\, news anchors\, producers\, editors\, photographers etc are all welcomed to attend. RSVP with media credentials or invitation. Light refreshments\, gift bags\, schedule\, press kits\, and insider surprises available at this event. Admission: Free with RSVP/Invitation/Valid Credentials Location: Styled by Naida \, 607 Lady Street\, Columbia SC Time: 6-8pm Email: pr@columbiafashionweek.com for an invitation or if already approved\, or you have valid media credentials from a media outlet\, you can register on our website columbiafashionweek.com
X-ALT-DESC;FMTTYPE=text/html:Event for members of the media. Bloggers\, journalists\, fashion influencers\, news anchors\, producers\, editors\, photographers etc are all welcomed to attend. RSVP with media credentials or invitation. Light refreshments\, gift bags\, schedule\, press kits\, and insider surprises available at this event. Admission: Free with RSVP/Invitation/Valid Credentials Location: Styled by Naida \, 607 Lady Street\, Columbia SC Time: 6-8pm Email: pr@columbiafashionweek.com for an invitation or if already approved\, or you have valid media credentials from a media outlet\, you can register on our website columbiafashionweek.com
LOCATION:
UID:e.1333.3205
SEQUENCE:3
DTSTAMP:20260423T180733Z
URL:https://business.greaterirmochamber.com/events/details/columbia-fashion-week-night-1-pressed-3205
END:VEVENT

END:VCALENDAR
