BEGIN:VCALENDAR
VERSION:2.0
PRODID:-//ChamberMaster//Event Calendar 2.0//EN
METHOD:PUBLISH
X-PUBLISHED-TTL:P3D
REFRESH-INTERVAL:P3D
CALSCALE:GREGORIAN
BEGIN:VEVENT
DTSTART:20180619T210000Z
DTEND:20180620T000000Z
X-MICROSOFT-CDO-ALLDAYEVENT:FALSE
SUMMARY:Columbia Fashion Week: Night 2 "Shop My Closet w/The RoSho Live!"
DESCRIPTION:Storyteller and Live stream strategist\, Television Producer and host of the Facebook Live: The Rosho Live is giving you a chance to shop her closet for a good cause. Shop the racks for the clothing\, shoes and accessories Roshanda Pratt has worn from speaking events\, media interviews and public appearances. 10% of proceeds go towards Styled by Naida Foundation. A non-profit dedicated to empowering and educating those from less fortunate communities about the importance of professional dress\, self awareness\, budgeting and professional etiquette. Registration is free. This event is part of the weeklong festivities of Columbia Fashion Week. Bring your girlfriends and shop for a good cause!
X-ALT-DESC;FMTTYPE=text/html:Storyteller and Live stream strategist\, Television Producer and host of the Facebook Live: The Rosho Live is giving you a chance to shop her closet for a good cause. Shop the racks for the clothing\, shoes and accessories Roshanda Pratt has worn from speaking events\, media interviews and public appearances. 10% of proceeds go towards Styled by Naida Foundation. A non-profit dedicated to empowering and educating those from less fortunate communities about the importance of professional dress\, self awareness\, budgeting and professional etiquette. Registration is free. This event is part of the weeklong festivities of Columbia Fashion Week. Bring your girlfriends and shop for a good cause!
LOCATION:Styled By Nadia 607 Lady Street Columbia SC 29201
UID:e.1333.3206
SEQUENCE:3
DTSTAMP:20260423T181452Z
URL:https://business.greaterirmochamber.com/events/details/columbia-fashion-week-night-2-shop-my-closet-w-the-rosho-live-3206
END:VEVENT

END:VCALENDAR
