BEGIN:VCALENDAR
VERSION:2.0
PRODID:-//ChamberMaster//Event Calendar 2.0//EN
METHOD:PUBLISH
X-PUBLISHED-TTL:P3D
REFRESH-INTERVAL:P3D
CALSCALE:GREGORIAN
BEGIN:VEVENT
DTSTART:20180620T230000Z
DTEND:20180621T010000Z
X-MICROSOFT-CDO-ALLDAYEVENT:FALSE
SUMMARY:Columbia Fashion Week: Night 3 "Fashion Education Panel & Trash the Runway Mini Presentation/Competition"
DESCRIPTION:Join us for our annual Fashion Education Panel. Each year we invite regional fashion leaders to come and teach us about the business side of the fashion industry. Learn what it takes to make it and what to do when you make a mistakes. There will be opportunities to ask the panelists questions as well as potentially intern for them or work with them. The winner of the William Josh Ratliff Award for Fashion Excellence will be announced and awarded. We will also have student designers from area high schools and colleges submitting their recyclable fashions for judging and prizes. This is an excellent event for high school and college students as well as recent college grads who aspire to work in the fashion industry.
X-ALT-DESC;FMTTYPE=text/html:Join us for our annual Fashion Education Panel. Each year we invite regional fashion leaders to come and teach us about the business side of the fashion industry. Learn what it takes to make it and what to do when you make a mistakes. There will be opportunities to ask the panelists questions as well as potentially intern for them or work with them. The winner of the William Josh Ratliff Award for Fashion Excellence will be announced and awarded. We will also have student designers from area high schools and colleges submitting their recyclable fashions for judging and prizes. This is an excellent event for high school and college students as well as recent college grads who aspire to work in the fashion industry.
LOCATION:The Lourie Center 1620 Park Circle\, Columbia SC
UID:e.1333.3207
SEQUENCE:3
DTSTAMP:20260423T194422Z
URL:https://business.greaterirmochamber.com/events/details/columbia-fashion-week-night-3-fashion-education-panel-trash-the-runway-mini-presentation-competition-3207
END:VEVENT

END:VCALENDAR
