BEGIN:VCALENDAR
VERSION:2.0
PRODID:-//ChamberMaster//Event Calendar 2.0//EN
METHOD:PUBLISH
X-PUBLISHED-TTL:P3D
REFRESH-INTERVAL:P3D
CALSCALE:GREGORIAN
BEGIN:VEVENT
DTSTART:20180621T230000Z
DTEND:20180622T010000Z
X-MICROSOFT-CDO-ALLDAYEVENT:FALSE
SUMMARY:Columbia Fashion Week: Night 4 "Recess! Kids and Teens Runway Shows"
DESCRIPTION:Designers and Retailers will showcase collections on the runway for children and teens. This is a fun night for the entire family to experience fashion week together. Bring the whole family for a fun night of shopping and children's shows!
X-ALT-DESC;FMTTYPE=text/html:Designers and Retailers will showcase collections on the runway for children and teens. This is a fun night for the entire family to experience fashion week together. Bring the whole family for a fun night of shopping and children&#39\;s shows!
LOCATION:The Lourie Center 1650 Park Circle\, Columbia SC
UID:e.1333.3208
SEQUENCE:3
DTSTAMP:20260423T181142Z
URL:https://business.greaterirmochamber.com/events/details/columbia-fashion-week-night-4-recess-kids-and-teens-runway-shows-3208
END:VEVENT

END:VCALENDAR
