BEGIN:VCALENDAR
VERSION:2.0
PRODID:-//ChamberMaster//Event Calendar 2.0//EN
METHOD:PUBLISH
X-PUBLISHED-TTL:P3D
REFRESH-INTERVAL:P3D
CALSCALE:GREGORIAN
BEGIN:VEVENT
DTSTART:20180622T230000Z
DTEND:20180623T010000Z
X-MICROSOFT-CDO-ALLDAYEVENT:FALSE
SUMMARY:Columbia Fashion Week: Night 6 "8th annual Beautiful People Party"
DESCRIPTION:The 8th annual Beautiful People Party is our annual who's who event of the most stylish citizens of Columbia! Come out in your most fabulous and trendy attire and enjoy our live red carpet\, light refreshments\, drinks and see who won the 25 popular vote and the 25 director's picks! Special Desire Installation Presentation
X-ALT-DESC;FMTTYPE=text/html:The 8th annual Beautiful People Party is our annual who&#39\;s who event of the most stylish citizens of Columbia! Come out in your most fabulous and trendy attire and enjoy our live red carpet\, light refreshments\, drinks and see who won the 25 popular vote and the 25 director&#39\;s picks! Special Desire Installation Presentation
LOCATION:DMR Fashions 617 Lady Street\, Columbia SC
UID:e.1333.3209
SEQUENCE:3
DTSTAMP:20260423T180926Z
URL:https://business.greaterirmochamber.com/events/details/columbia-fashion-week-night-6-8th-annual-beautiful-people-party-3209
END:VEVENT

END:VCALENDAR
