BEGIN:VCALENDAR
VERSION:2.0
PRODID:-//ChamberMaster//Event Calendar 2.0//EN
METHOD:PUBLISH
X-PUBLISHED-TTL:P3D
REFRESH-INTERVAL:P3D
CALSCALE:GREGORIAN
BEGIN:VEVENT
DTSTART:20180623T230000Z
DTEND:20180624T020000Z
X-MICROSOFT-CDO-ALLDAYEVENT:FALSE
SUMMARY:Columbia Fashion Week: Night 6 "Walk the Runway: Finale Runway Shows"
DESCRIPTION:Enjoy incredible shopping with our vendors\, 20 retailers and designers and over 100 of the most stunning models in the Carolinas as they walk the runway showcasing some of the seasons hottest trends! Curve the Runway: FIRST EVER Plus Size designer/retailer showcase Design the Runway: designer showcases Retail the Runway: retailer showcases
X-ALT-DESC;FMTTYPE=text/html:Enjoy incredible shopping with our vendors\, 20 retailers and designers and over 100 of the most stunning models in the Carolinas as they walk the runway showcasing some of the seasons hottest trends! Curve the Runway: FIRST EVER Plus Size designer/retailer showcase Design the Runway: designer showcases Retail the Runway: retailer showcases
LOCATION:
UID:e.1333.3210
SEQUENCE:3
DTSTAMP:20260423T180745Z
URL:https://business.greaterirmochamber.com/events/details/columbia-fashion-week-night-6-walk-the-runway-finale-runway-shows-3210
END:VEVENT

END:VCALENDAR
