BEGIN:VCALENDAR
VERSION:2.0
PRODID:-//ChamberMaster//Event Calendar 2.0//EN
METHOD:PUBLISH
X-PUBLISHED-TTL:P3D
REFRESH-INTERVAL:P3D
CALSCALE:GREGORIAN
BEGIN:VEVENT
DTSTART:20161209T220000Z
DTEND:20161210T010000Z
X-MICROSOFT-CDO-ALLDAYEVENT:FALSE
SUMMARY:Columbia Rotary Club Centennial Celebration
DESCRIPTION:You are cordially invited to attend the Centennial Celebration of the\n\nColumbia Rotary Club.  Rotary International President John Germ will be the featured speaker.  Black Tie Optional.  Cash Bar.
X-ALT-DESC;FMTTYPE=text/html:You are cordially invited to attend the&nbsp\;Centennial Celebration of the<br />\nColumbia Rotary Club. &nbsp\;Rotary International President John Germ will be the featured speaker. &nbsp\;Black Tie Optional. &nbsp\;Cash Bar.<br />\n&nbsp\;
LOCATION:Columbia Metropolitan Convention Center 1101 Lincoln St. Columbia\, SC 29201
UID:e.1333.2496
SEQUENCE:3
DTSTAMP:20260424T212633Z
URL:https://business.greaterirmochamber.com/events/details/columbia-rotary-club-centennial-celebration-2496
END:VEVENT

END:VCALENDAR
