BEGIN:VCALENDAR
VERSION:2.0
PRODID:-//ChamberMaster//Event Calendar 2.0//EN
METHOD:PUBLISH
X-PUBLISHED-TTL:P3D
REFRESH-INTERVAL:P3D
CALSCALE:GREGORIAN
BEGIN:VEVENT
DTSTART:20170809T220000Z
DTEND:20170809T233000Z
X-MICROSOFT-CDO-ALLDAYEVENT:FALSE
SUMMARY:Community Cook Out with Rep. Nathan Ballentine
DESCRIPTION:Please join us for a Community Cook Out with Rep. Nathan Ballentine!
X-ALT-DESC;FMTTYPE=text/html:Please join us for a Community Cook Out with Rep. Nathan Ballentine!
LOCATION:The Home of Christina and Mark Woody 203 St. Thomas Church Rd. Chapin\, SC
UID:e.1333.2824
SEQUENCE:3
DTSTAMP:20260424T095251Z
URL:https://business.greaterirmochamber.com/events/details/community-cook-out-with-rep-nathan-ballentine-2824
END:VEVENT

END:VCALENDAR
