BEGIN:VCALENDAR
VERSION:2.0
PRODID:-//ChamberMaster//Event Calendar 2.0//EN
METHOD:PUBLISH
X-PUBLISHED-TTL:P3D
REFRESH-INTERVAL:P3D
CALSCALE:GREGORIAN
BEGIN:VEVENT
DTSTART:20160830T123000Z
DTEND:20160830T131500Z
X-MICROSOFT-CDO-ALLDAYEVENT:FALSE
SUMMARY:Congressman Joe Wilson Bus Tour - 2016
DESCRIPTION:Join our Congressman Joe Wilson when he visits our office as part of his annual district Bus Tour to meet with constituents discussing concerns and sharing news from Washington.
X-ALT-DESC;FMTTYPE=text/html:Join our Congressman Joe Wilson when he visits our office as part of his annual district Bus Tour to meet with constituents discussing concerns and sharing news from Washington.
LOCATION:Irmo Chamber of Commerce 1235 Columbia Avenue Irmo\, SC 29063
UID:e.1333.2463
SEQUENCE:3
DTSTAMP:20260425T034152Z
URL:https://business.greaterirmochamber.com/events/details/congressman-joe-wilson-bus-tour-2016-08-30-2016-2463
END:VEVENT

END:VCALENDAR
