BEGIN:VCALENDAR
VERSION:2.0
PRODID:-//ChamberMaster//Event Calendar 2.0//EN
METHOD:PUBLISH
X-PUBLISHED-TTL:P3D
REFRESH-INTERVAL:P3D
CALSCALE:GREGORIAN
BEGIN:VEVENT
DTSTART:20190827T130000Z
DTEND:20190827T134500Z
X-MICROSOFT-CDO-ALLDAYEVENT:FALSE
SUMMARY:Congressman Joe Wilson Bus Tour - 2019
DESCRIPTION:Join us as we welcome Congressman Joe Wilson when he visits our Chamber as part of his annual district Bus Tour to meet with constituents discussing concerns and sharing news from Washington!
X-ALT-DESC;FMTTYPE=text/html:<span style="color: rgb(51\, 51\, 51)\; font-family: sans-serif\, Arial\, Verdana\, &quot\;Trebuchet MS&quot\;\; font-size: 13px\; background-color: rgb(255\, 255\, 255)\;">Join us as we welcome Congressman Joe Wilson when he visits our Chamber as part of his annual district Bus Tour to meet with constituents discussing concerns and sharing news from Washington!</span>
LOCATION:Irmo Chamber 1235 Columbia Avenue Irmo\, SC 29063
UID:e.1333.3357
SEQUENCE:3
DTSTAMP:20260422T201643Z
URL:https://business.greaterirmochamber.com/events/details/congressman-joe-wilson-bus-tour-2019-3357
END:VEVENT

END:VCALENDAR
