BEGIN:VCALENDAR
VERSION:2.0
PRODID:-//ChamberMaster//Event Calendar 2.0//EN
METHOD:PUBLISH
X-PUBLISHED-TTL:P3D
REFRESH-INTERVAL:P3D
CALSCALE:GREGORIAN
BEGIN:VEVENT
DTSTART:20170829T123000Z
DTEND:20170829T131500Z
X-MICROSOFT-CDO-ALLDAYEVENT:FALSE
SUMMARY:Congressman Joe Wilson Bus Tour
DESCRIPTION:Join us as we welcome Congressman Joe Wilson when he visits our Chamber as part of his annual district Bus Tour to meet with constituents discussing concerns and sharing news from Washington!!!
X-ALT-DESC;FMTTYPE=text/html:Join us as we welcome Congressman Joe Wilson when he visits our Chamber&nbsp\;as part of his annual district Bus Tour to meet with constituents discussing concerns and sharing news from Washington!!!
LOCATION:Greater Irmo Chamber of Commerce 1235 Columbia Avenue Irmo\, SC 29063
UID:e.1333.2891
SEQUENCE:3
DTSTAMP:20260424T095934Z
URL:https://business.greaterirmochamber.com/events/details/congressman-joe-wilson-bus-tour-2891
END:VEVENT

END:VCALENDAR
