BEGIN:VCALENDAR
VERSION:2.0
PRODID:-//ChamberMaster//Event Calendar 2.0//EN
METHOD:PUBLISH
X-PUBLISHED-TTL:P3D
REFRESH-INTERVAL:P3D
CALSCALE:GREGORIAN
BEGIN:VEVENT
DTSTART:20200818T120000Z
DTEND:20200818T130000Z
X-MICROSOFT-CDO-ALLDAYEVENT:FALSE
SUMMARY:Congressman Joe Wilson's 2020 Bus Tour Comes To Coffee Talk
DESCRIPTION:We'll have a special edition of Coffee Talk on Tuesday\, August 18th at 8AM when we welcome Congressman Joe Wilson's 2020 Bus Tour to Irmo.  Come enjoy some Bart's Crazy Good Coffee with an amazing group of networkers and hear what the Congressman has to report from Washington.  Questions are encouraged and will be accepted in advance via email (ceo@greaterirmochamber.com).  And\, of course\, the Congressman will answer Kerry's QOTD!\n\n\n\n PLEASE NOTE: Stars and Strikes graciously hosts us each week and offers a large facility to allow for social distancing.  Masks are required in the Town of Irmo/Richalnd County for entry into the building and when not sipping your delicious coffee.\n\n\n\nWe look forward to seeing you!
X-ALT-DESC;FMTTYPE=text/html:<span style="font-family: verdana\; font-size: 16px\; background-color: rgb(255\, 255\, 255)\;">We&#39\;ll have a special edition of <strong>Coffee Talk</strong> on <strong>Tuesday\, August 18th</strong> at <strong>8AM</strong> when we welcome <strong>Congressman Joe Wilson&#39\;s 2020 Bus Tour</strong> to Irmo. &nbsp\;Come enjoy some <strong>Bart&#39\;s Crazy Good Coffee</strong> with an&nbsp\;amazing group of networkers and hear what the Congressman has to report from Washington. &nbsp\;Questions are encouraged and will be accepted in advance via email (<a href="mailto:ceo@greaterirmochamber.com">ceo@greaterirmochamber.com</a>). &nbsp\;<em>And\, of course\, the Congressman will answer Kerry&#39\;s QOTD!</em><br />\n<br />\n<strong>&#8203\;PLEASE NOTE:</strong> <strong>Stars and Strikes</strong> graciously hosts us each week and offers a large&nbsp\;facility to allow for social distancing. &nbsp\;<strong>Masks</strong> are&nbsp\;</span><font face="verdana" size="3">required in the Town of Irmo/Richalnd&nbsp\;County&nbsp\;for entry into the building and when not sipping your delicious coffee.<br />\n<br />\nWe look forward to seeing you!</font>
LOCATION:Stars and Strikes Family Entertainment Center
UID:e.1333.3949
SEQUENCE:3
DTSTAMP:20260421T215730Z
URL:https://business.greaterirmochamber.com/events/details/congressman-joe-wilson-s-2020-bus-tour-comes-to-coffee-talk-3949
END:VEVENT

END:VCALENDAR
