BEGIN:VCALENDAR
VERSION:2.0
PRODID:-//ChamberMaster//Event Calendar 2.0//EN
METHOD:PUBLISH
X-PUBLISHED-TTL:P3D
REFRESH-INTERVAL:P3D
CALSCALE:GREGORIAN
BEGIN:VEVENT
DTSTART:20170610T140000Z
DTEND:20170610T180000Z
X-MICROSOFT-CDO-ALLDAYEVENT:FALSE
SUMMARY:Customer Appreciation Day hosted by Javis Tax Service
DESCRIPTION:Customer Appreciation Day Cookout hosted by Javis Tax Service!\n\nFun\, Food\, Games & Entertainment! \n\nDoor Prizes!
X-ALT-DESC;FMTTYPE=text/html:Customer Appreciation Day Cookout hosted by Javis Tax Service!<br />\nFun\, Food\, Games &amp\; Entertainment!&nbsp\;<br />\nDoor Prizes!
LOCATION:The New Irmo Community Park 7505 Eastview Drive Irmo\, SC
UID:e.1333.2564
SEQUENCE:3
DTSTAMP:20260424T125128Z
URL:https://business.greaterirmochamber.com/events/details/customer-appreciation-day-hosted-by-javis-tax-service-2564
END:VEVENT

END:VCALENDAR
