BEGIN:VCALENDAR
VERSION:2.0
PRODID:-//ChamberMaster//Event Calendar 2.0//EN
METHOD:PUBLISH
X-PUBLISHED-TTL:P3D
REFRESH-INTERVAL:P3D
CALSCALE:GREGORIAN
BEGIN:VEVENT
DTSTART:20171207T123000Z
DTEND:20171207T133000Z
X-MICROSOFT-CDO-ALLDAYEVENT:FALSE
SUMMARY:December 2017 Chamber Breakfast
DESCRIPTION:Please join us for a great morning of networking and fellowship!  The December Chamber Breakfast will be sponsored by one of Marketing level partners\, Brookdale Senior Living!
X-ALT-DESC;FMTTYPE=text/html:Please join us for a great morning of networking and fellowship! &nbsp\;The December Chamber Breakfast will be sponsored by one of Marketing level partners\, <b>Brookdale Senior Living!</b>
LOCATION:Greater Irmo Chamber of Commerce 1235 Columbia Ave. Irmo\, SC 29063
UID:e.1333.2920
SEQUENCE:3
DTSTAMP:20260424T034107Z
URL:https://business.greaterirmochamber.com/events/details/december-2017-chamber-breakfast-2920
END:VEVENT

END:VCALENDAR
