BEGIN:VCALENDAR
VERSION:2.0
PRODID:-//ChamberMaster//Event Calendar 2.0//EN
METHOD:PUBLISH
X-PUBLISHED-TTL:P3D
REFRESH-INTERVAL:P3D
CALSCALE:GREGORIAN
BEGIN:VEVENT
DTSTART:20180125T130000Z
DTEND:20180125T220000Z
X-MICROSOFT-CDO-ALLDAYEVENT:FALSE
SUMMARY:Dementia Dialogues
DESCRIPTION:Dementia Dialogues is a basic 5-session training course designed to educate individuals who care for persons exhibiting signs and symptoms associated with Alzheimer's disease or related dementias. This presentation is free\, but reservations are requested. For more information or to reserve a seat\, contact 803.732.8800
X-ALT-DESC;FMTTYPE=text/html:Dementia Dialogues is a basic 5-session training course designed to educate individuals who care for persons exhibiting signs and symptoms associated with Alzheimer&rsquo\;s disease or related dementias. This presentation is free\, but reservations are requested. For more information or to reserve a seat\, contact 803.732.8800
LOCATION:the Heritage at Lowman
UID:e.1333.2936
SEQUENCE:3
DTSTAMP:20260424T020943Z
URL:https://business.greaterirmochamber.com/events/details/dementia-dialogues-2936
END:VEVENT

END:VCALENDAR
