BEGIN:VCALENDAR
VERSION:2.0
PRODID:-//ChamberMaster//Event Calendar 2.0//EN
METHOD:PUBLISH
X-PUBLISHED-TTL:P3D
REFRESH-INTERVAL:P3D
CALSCALE:GREGORIAN
BEGIN:VEVENT
DTSTART:20230412T133000Z
DTEND:20230413T193000Z
X-MICROSOFT-CDO-ALLDAYEVENT:FALSE
SUMMARY:DigiMarCon At Home 2023 - Digital Marketing\, Media and Advertising Conference
DESCRIPTION:Expand your knowledge on the following topics: \n\n	Account-Based Marketing\, \n	Behavioral & Neuromarketing\, \n	Content Marketing\, \n	Conversational Marketing\, \n	Conversion Rate Optimization\, \n	Data Science & Big Data\, \n	Email Marketing\, \n	Geo-Targeting & Proximity Marketing\, \n	Growth Hacking\, \n	Inbound & Outbound Marketing\, \n	Influencer Marketing\, \n	Mobile Marketing\, \n	Native & Contextual Advertising\, \n	Omnichannel Marketing\, \n	Paid Search Marketing\, \n	Personalization & Privacy. \n\nYou'll also learn the following: Podcast & Webinar Marketing\, PR & Cause Marketing\, Predictive Analytics & Attribution\, Programmatic Advertising\, Sales & Marketing Automation\, Search Engine Optimization\, Shopper Marketing\, Marketing & Customer Experience\, Social Commerce\, Social Media Marketing\, UI / UX Design\, User-Generated Content\, Video Marketing\, Viral & Buzz Marketing\, Visual & Voice Search\, Web Analytics\, and much more!\n\nAt DigiMarCon At Home 2023\, you will receive all the elements you need to achieve digital marketing success! Conventional thought will be challenged\, new ways of thinking will emerge\, and you will leave with your head\, notebooks and professional toolkit full of action items and ideas to lead and supercharge your agency / team / account to even greater success. Be a part of DigiMarCon At Home and discover how to thrive and succeed as a marketer in a rapidly evolving digital world. See why people keep coming back year after year to this must-attend event!\n\nRegister and secure your seat today. For more details visit https://digimarconathome.com.
X-ALT-DESC;FMTTYPE=text/html:<span style="font-size:16px\;"><span style="font-family:verdana\;">Expand your knowledge on the following topics: </span></span>\n<ul>\n	<li><span style="font-size:16px\;"><span style="font-family:verdana\;">Account-Based Marketing\, </span></span></li>\n	<li><span style="font-size:16px\;"><span style="font-family:verdana\;">Behavioral &amp\; Neuromarketing\, </span></span></li>\n	<li><span style="font-size:16px\;"><span style="font-family:verdana\;">Content Marketing\, </span></span></li>\n	<li><span style="font-size:16px\;"><span style="font-family:verdana\;">Conversational Marketing\, </span></span></li>\n	<li><span style="font-size:16px\;"><span style="font-family:verdana\;">Conversion Rate Optimization\, </span></span></li>\n	<li><span style="font-size:16px\;"><span style="font-family:verdana\;">Data Science &amp\; Big Data\, </span></span></li>\n	<li><span style="font-size:16px\;"><span style="font-family:verdana\;">Email Marketing\, </span></span></li>\n	<li><span style="font-size:16px\;"><span style="font-family:verdana\;">Geo-Targeting &amp\; Proximity Marketing\, </span></span></li>\n	<li><span style="font-size:16px\;"><span style="font-family:verdana\;">Growth Hacking\, </span></span></li>\n	<li><span style="font-size:16px\;"><span style="font-family:verdana\;">Inbound &amp\; Outbound Marketing\, </span></span></li>\n	<li><span style="font-size:16px\;"><span style="font-family:verdana\;">Influencer Marketing\, </span></span></li>\n	<li><span style="font-size:16px\;"><span style="font-family:verdana\;">Mobile Marketing\, </span></span></li>\n	<li><span style="font-size:16px\;"><span style="font-family:verdana\;">Native &amp\; Contextual Advertising\, </span></span></li>\n	<li><span style="font-size:16px\;"><span style="font-family:verdana\;">Omnichannel Marketing\, </span></span></li>\n	<li><span style="font-size:16px\;"><span style="font-family:verdana\;">Paid Search Marketing\, </span></span></li>\n	<li><span style="font-size:16px\;"><span style="font-family:verdana\;">Personalization &amp\; Privacy. </span></span></li>\n</ul>\n<span style="font-size:16px\;"><span style="font-family:verdana\;">You&rsquo\;ll also learn the following: Podcast &amp\; Webinar Marketing\, PR &amp\; Cause Marketing\, Predictive Analytics &amp\; Attribution\, Programmatic Advertising\, Sales &amp\; Marketing Automation\, Search Engine Optimization\, Shopper Marketing\, Marketing &amp\; Customer Experience\, Social Commerce\, Social Media Marketing\, UI / UX Design\, User-Generated Content\, Video Marketing\, Viral &amp\; Buzz Marketing\, Visual &amp\; Voice Search\, Web Analytics\, and much more!<br />\nAt DigiMarCon At Home 2023\, you will receive all the elements you need to achieve digital marketing success! Conventional thought will be challenged\, new ways of thinking will emerge\, and you will leave with your head\, notebooks and professional toolkit full of action items and ideas to lead and supercharge your agency / team / account to even greater success. Be a part of DigiMarCon At Home and discover how to thrive and succeed as a marketer in a rapidly evolving digital world. See why people keep coming back year after year to this must-attend event!<br />\nRegister and secure your seat today. For more details visit <strong>https://digimarconathome.com.</strong></span></span>
LOCATION:Online
UID:e.1333.4987
SEQUENCE:3
DTSTAMP:20260424T182604Z
URL:https://business.greaterirmochamber.com/events/details/digimarcon-at-home-2023-digital-marketing-media-and-advertising-conference-4987
END:VEVENT

END:VCALENDAR
