BEGIN:VCALENDAR
VERSION:2.0
PRODID:-//ChamberMaster//Event Calendar 2.0//EN
METHOD:PUBLISH
X-PUBLISHED-TTL:P3D
REFRESH-INTERVAL:P3D
CALSCALE:GREGORIAN
BEGIN:VEVENT
DTSTART:20170328T153000Z
DTEND:20170328T163000Z
X-MICROSOFT-CDO-ALLDAYEVENT:FALSE
SUMMARY:Digital Hearing Outlet Ribbon Cutting
DESCRIPTION:Join us to welcome Digital Hearing Outlet to our Chamber!\n\nRibbon Cutting at 11:45 p.m.\n\nLunch catered by Momma Rabbit's\n\nAdditional Parking available at Tractor Supply
X-ALT-DESC;FMTTYPE=text/html:Join us to welcome Digital Hearing Outlet to our Chamber!<br />\nRibbon Cutting at 11:45 p.m.<br />\nLunch catered by Momma Rabbit&#39\;s<br />\nAdditional Parking available at Tractor Supply
LOCATION:5609 Sunset Boulevard\, Suite D Lexington\, SC
UID:e.1333.2530
SEQUENCE:3
DTSTAMP:20260424T171509Z
URL:https://business.greaterirmochamber.com/events/details/digital-hearing-outlet-ribbon-cutting-2530
END:VEVENT

END:VCALENDAR
