BEGIN:VCALENDAR
VERSION:2.0
PRODID:-//ChamberMaster//Event Calendar 2.0//EN
METHOD:PUBLISH
X-PUBLISHED-TTL:P3D
REFRESH-INTERVAL:P3D
CALSCALE:GREGORIAN
BEGIN:VEVENT
DTSTART:20171005T220000Z
DTEND:20171006T010000Z
X-MICROSOFT-CDO-ALLDAYEVENT:FALSE
SUMMARY:District 5 Education Foundation Annual Celebration and Benefit
DESCRIPTION:Join us for an evening of fun and goodwill for our school district! Come to the District 5 Education Foundation Celebration and Auction!  There will be delicious food catered by the Blue Marlin\, adult beverages\, a live band and many fabulous items to bid on.
X-ALT-DESC;FMTTYPE=text/html:Join us for an evening of fun and goodwill for our school district! Come to the District 5 Education Foundation Celebration and Auction! &nbsp\;There will be delicious food catered by the Blue Marlin\, adult beverages\, a live band and many fabulous items to bid on.
LOCATION:Saluda Shoals River Center
UID:e.1333.2907
SEQUENCE:3
DTSTAMP:20260424T064948Z
URL:https://business.greaterirmochamber.com/events/details/district-5-education-foundation-annual-celebration-and-benefit-2907
END:VEVENT

END:VCALENDAR
