BEGIN:VCALENDAR
VERSION:2.0
PRODID:-//ChamberMaster//Event Calendar 2.0//EN
METHOD:PUBLISH
X-PUBLISHED-TTL:P3D
REFRESH-INTERVAL:P3D
CALSCALE:GREGORIAN
BEGIN:VEVENT
DTSTART:20170417T150000Z
DTEND:20170421T030000Z
X-MICROSOFT-CDO-ALLDAYEVENT:FALSE
SUMMARY:District Five Foundation FR @ Persona Wood Fired Pizzeria
DESCRIPTION:Receive a FREE 10" Pizza with your $5 donation to District Five Foundation!!!
X-ALT-DESC;FMTTYPE=text/html:Receive a FREE 10&quot\; Pizza with&nbsp\;your $5 donation to District Five Foundation!!!
LOCATION:Persona Wood Fired Pizzeria 1270 Bower Parkway Columbia\, SC 29212 (next to Jewelry Warehouse)
UID:e.1333.2546
SEQUENCE:3
DTSTAMP:20260424T155317Z
URL:https://business.greaterirmochamber.com/events/details/district-five-foundation-fr-persona-wood-fired-pizzeria-2546
END:VEVENT

END:VCALENDAR
