BEGIN:VCALENDAR
VERSION:2.0
PRODID:-//ChamberMaster//Event Calendar 2.0//EN
METHOD:PUBLISH
X-PUBLISHED-TTL:P3D
REFRESH-INTERVAL:P3D
CALSCALE:GREGORIAN
BEGIN:VEVENT
DTSTART:20180315T233000Z
DTEND:20180331T233000Z
X-MICROSOFT-CDO-ALLDAYEVENT:FALSE
SUMMARY:Don't Call Me Brother
DESCRIPTION:WOW Productions & JW Hill presents "Don't Call Me Brother"\, a timely & necessary play exploring the dilemma of being both a cop & a Black man. Another black youth has been killed by the police under questionable circumstances. Andrew Merritt's first task as the recently promoted Chief of the Community Liaison Department is to restore his former community's confidence in the police. His loyalty is immediately in question. Making his job even more difficult is Hassan\, his highly visible\, activist brother who ignores Andrew's difficulties and calls for immediate police accountability and department wide reform. Hassan's public stand not only incites the community but it wreaks havoc with the already fragile relationship between the two brothers. Pulled into an unbearable conflict\, he's criticized from both sides. Andrew struggles between his allegiance to the police department where after twenty-four years he finally has an opportunity to step into his destiny and his loyalty to his family and community. All eyes are on him. Can he answer the loyalty question each side is asking? Is he Black....or Blue?
X-ALT-DESC;FMTTYPE=text/html:WOW Productions &amp\; JW Hill presents &quot\;Don&rsquo\;t Call Me Brother&quot\;\, a timely &amp\; necessary play exploring the dilemma of being both a cop &amp\; a Black man. Another black youth has been killed by the police under questionable circumstances. Andrew Merritt&rsquo\;s first task as the recently promoted Chief of the Community Liaison Department is to restore his former community&rsquo\;s confidence in the police. His loyalty is immediately in question. Making his job even more difficult is Hassan\, his highly visible\, activist brother who ignores Andrew&#39\;s difficulties and calls for immediate police accountability and department wide reform. Hassan&rsquo\;s public stand not only incites the community but it wreaks havoc with the already fragile relationship between the two brothers. Pulled into an unbearable conflict\, he&rsquo\;s criticized from both sides. Andrew struggles between his allegiance to the police department where after twenty-four years he finally has an opportunity to step into his destiny and his loyalty to his family and community. All eyes are on him. Can he answer the loyalty question each side is asking? Is he Black....or Blue?
LOCATION:WOW Performing Arts Center 5816 Shakespeare Rd\, Ste A Columbia\, SC 29223
UID:e.1333.2977
SEQUENCE:3
DTSTAMP:20260423T225938Z
URL:https://business.greaterirmochamber.com/events/details/don-t-call-me-brother-2977
END:VEVENT

END:VCALENDAR
