BEGIN:VCALENDAR
VERSION:2.0
PRODID:-//ChamberMaster//Event Calendar 2.0//EN
METHOD:PUBLISH
X-PUBLISHED-TTL:P3D
REFRESH-INTERVAL:P3D
CALSCALE:GREGORIAN
BEGIN:VEVENT
DTSTART:20180920T153000Z
DTEND:20180920T163000Z
X-MICROSOFT-CDO-ALLDAYEVENT:FALSE
SUMMARY:Drone Works Professional Drone Services Ribbon Cutting
DESCRIPTION:Drone Works Professional Drone Services Ribbon Cutting\n\nLight Lunch will be provided\n\n11:45 a.m. ribbon cutting
X-ALT-DESC;FMTTYPE=text/html:Drone Works Professional Drone Services Ribbon Cutting<br />\nLight Lunch will be provided<br />\n11:45 a.m. ribbon cutting
LOCATION:Irmo Chamber 1235 Columbia Avenue Irmo\, SC 29063
UID:e.1333.3266
SEQUENCE:3
DTSTAMP:20260423T145822Z
URL:https://business.greaterirmochamber.com/events/details/drone-works-professional-drone-services-ribbon-cutting-3266
END:VEVENT

END:VCALENDAR
