BEGIN:VCALENDAR
VERSION:2.0
PRODID:-//ChamberMaster//Event Calendar 2.0//EN
METHOD:PUBLISH
X-PUBLISHED-TTL:P3D
REFRESH-INTERVAL:P3D
CALSCALE:GREGORIAN
BEGIN:VEVENT
DTSTART:20191213T003000Z
DTEND:20191213T013000Z
X-MICROSOFT-CDO-ALLDAYEVENT:FALSE
SUMMARY:Dutch Fork Choral Society presents "Winter's Hope"
DESCRIPTION:The Dutch Fork Choral Society presents "Winter's Hope"\, a Christmas concert featuring Isabel Ong\, violinist\, and string ensemble. Thursday December 12th at 7:30pm\, at St. Mary's Episcopal Church\, 170 St. Andrews Road\, Irmo/Columbia. The concert includes Vivaldi's Magnificat and "Winter" from his Four Seasons\, and the well-loved Seven Joys of Christmas by Kirke Mechem. Free to the public. (Donations graciously accepted). Kirstina Rasmussen Collins\, Artistic Director\, and Bradley Fuller\, accompanist. Questions? Call Jim Buck\, at (803) 318-0488 or (803) 414-2222. See our website www.dutchforkchoralsociety.com\, email info@dutchforkchoralsociety.com
X-ALT-DESC;FMTTYPE=text/html:The Dutch Fork Choral Society presents &quot\;Winter&#39\;s Hope&quot\;\, a Christmas concert featuring Isabel Ong\, violinist\, and string ensemble. Thursday December 12th at 7:30pm\, at St. Mary&#39\;s Episcopal Church\, 170 St. Andrews Road\, Irmo/Columbia. The concert includes Vivaldi&#39\;s Magnificat and &quot\;Winter&quot\; from his Four Seasons\, and the well-loved Seven Joys of Christmas by Kirke Mechem. Free to the public. (Donations graciously accepted). Kirstina Rasmussen Collins\, Artistic Director\, and Bradley Fuller\, accompanist. Questions? Call Jim Buck\, at (803) 318-0488 or (803) 414-2222. See our website www.dutchforkchoralsociety.com\, email info@dutchforkchoralsociety.com
LOCATION:St. Mary's Episcopal Church 170 St. Andrews Road\, Columbia\, SC 29210
UID:e.1333.3398
SEQUENCE:3
DTSTAMP:20260422T144510Z
URL:https://business.greaterirmochamber.com/events/details/dutch-fork-choral-society-presents-winter-s-hope-3398
END:VEVENT

END:VCALENDAR
