BEGIN:VCALENDAR
VERSION:2.0
PRODID:-//ChamberMaster//Event Calendar 2.0//EN
METHOD:PUBLISH
X-PUBLISHED-TTL:P3D
REFRESH-INTERVAL:P3D
CALSCALE:GREGORIAN
BEGIN:VEVENT
DTSTART:20161115T220000Z
DTEND:20161116T020000Z
X-MICROSOFT-CDO-ALLDAYEVENT:FALSE
SUMMARY:EATDRINKBID: 21st Annual Chuck Larsen Live & Silent Auction
DESCRIPTION:Join us for a fun filled evening full of eating\, drinking\, and bidding on fabulous items!  This fundraiser benefits the Greater Irmo Chamber of Commerce and enables us to continue serving the Irmo business community. \n\n\n\nTICKETS AVAILABLE TONIGHT AT THE DOOR!!
X-ALT-DESC;FMTTYPE=text/html:<p>Join us for a fun filled evening full of eating\, drinking\, and bidding on fabulous items! &nbsp\;This fundraiser benefits the Greater Irmo Chamber of Commerce and enables us to continue serving the Irmo&nbsp\;business community.&nbsp\;<br />\n<br />\nTICKETS AVAILABLE TONIGHT AT THE DOOR!!<br />\n<br />\n&nbsp\;</p>\n
LOCATION:The River Center at Saluda Shoals
UID:e.1333.2472
SEQUENCE:3
DTSTAMP:20260425T003858Z
URL:https://business.greaterirmochamber.com/events/details/eatdrinkbid-21st-annual-chuck-larsen-live-silent-auction-2472
END:VEVENT

END:VCALENDAR
