BEGIN:VCALENDAR
VERSION:2.0
PRODID:-//ChamberMaster//Event Calendar 2.0//EN
METHOD:PUBLISH
X-PUBLISHED-TTL:P3D
REFRESH-INTERVAL:P3D
CALSCALE:GREGORIAN
BEGIN:VEVENT
DTSTART:20171114T220000Z
DTEND:20171115T020000Z
X-MICROSOFT-CDO-ALLDAYEVENT:FALSE
SUMMARY:EATDRINKBID: 22nd Annual Chuck Larsen Live & Silent Auction
DESCRIPTION:Join us for a fun filled evening full of eating\, drinking\, and bidding on fabulous items!  This fundraiser benefits the Greater Irmo Chamber of Commerce and enables us to continue serving the Irmo business community. \n\n\n\nThis year we will raffle a Yeti Hopper Cooler valued at $300 courtesy of Allstate:  The Salmon Agency.  Tickets are $5 each or 5 for $20.
X-ALT-DESC;FMTTYPE=text/html:<p>Join us for a fun filled evening full of eating\, drinking\, and bidding on fabulous items! &nbsp\;This fundraiser benefits the Greater Irmo Chamber of Commerce and enables us to continue serving the Irmo&nbsp\;business community.&nbsp\;<br />\n<br />\nThis year we will raffle a Yeti Hopper Cooler valued at $300 courtesy of <strong>Allstate: &nbsp\;The Salmon Agency</strong>. &nbsp\;Tickets are $5 each or 5 for $20.<br />\n<br />\n<br />\n<br />\n&nbsp\;</p>\n
LOCATION:The River Center at Saluda Shoals
UID:e.1333.2919
SEQUENCE:3
DTSTAMP:20260424T053138Z
URL:https://business.greaterirmochamber.com/events/details/eatdrinkbid-22nd-annual-chuck-larsen-live-silent-auction-2919
END:VEVENT

END:VCALENDAR
