BEGIN:VCALENDAR
VERSION:2.0
PRODID:-//ChamberMaster//Event Calendar 2.0//EN
METHOD:PUBLISH
X-PUBLISHED-TTL:P3D
REFRESH-INTERVAL:P3D
CALSCALE:GREGORIAN
BEGIN:VEVENT
DTSTART:20181108T220000Z
DTEND:20181109T020000Z
X-MICROSOFT-CDO-ALLDAYEVENT:FALSE
SUMMARY:EATDRINKBID: 23rd Annual Chuck Larsen Live & Silent Auction
DESCRIPTION:Join us for a fun filled evening full of eating\, drinking\, and bidding on fabulous items!  This fundraiser benefits the Greater Irmo Chamber of Commerce and enables us to continue serving the Irmo business community. \n\n\n\nTo purchase individual or couple tickets please fill out the form below. You will receive a text message and an email giving you information on how to use our new text to bid options!! \n\n\n\nThis year we will raffle a Yeti Roadie Cooler valued at $300 courtesy of Allstate:  The Salmon Agency.  Tickets are $5 each or 5 for $20. \n\n\n\nStart bidding early by clicking here!
X-ALT-DESC;FMTTYPE=text/html:<p>Join us for a fun filled evening full of eating\, drinking\, and bidding on fabulous items! &nbsp\;This fundraiser benefits the Greater Irmo Chamber of Commerce and enables us to continue serving the Irmo&nbsp\;business community.&nbsp\;<br />\n<br />\nTo purchase individual or couple tickets please fill out the form below. You will receive a text message and an email giving you information on how to use our new text to bid options!!&nbsp\;<br />\n<br />\nThis year we will raffle a Yeti Roadie Cooler valued at $300 courtesy of <strong>Allstate: &nbsp\;The Salmon Agency</strong>. &nbsp\;Tickets are $5 each or 5 for $20.&nbsp\;<br />\n<br />\nStart bidding early by <a href="https://www.accelevents.com/events/23rdAnnualChuckLarsenSilentAuction#Auction">clicking here!</a>&nbsp\;&nbsp\;<br />\n&nbsp\;</p>\n<iframe src="https://www.accelevents.com/events/23rdAnnualChuckLarsenSilentAuction/embed" style="min-height: 400px\; min-width: 500px\; border: 1px solid #eee\;"></iframe>
LOCATION:The River Center at Saluda Shoals
UID:e.1333.3272
SEQUENCE:3
DTSTAMP:20260423T104348Z
URL:https://business.greaterirmochamber.com/events/details/eatdrinkbid-23rd-annual-chuck-larsen-live-silent-auction-3272
END:VEVENT

END:VCALENDAR
