BEGIN:VCALENDAR
VERSION:2.0
PRODID:-//ChamberMaster//Event Calendar 2.0//EN
METHOD:PUBLISH
X-PUBLISHED-TTL:P3D
REFRESH-INTERVAL:P3D
CALSCALE:GREGORIAN
BEGIN:VEVENT
DTSTART:20170821T150000Z
DTEND:20170821T190000Z
X-MICROSOFT-CDO-ALLDAYEVENT:FALSE
SUMMARY:ECLIPSE T-SHIRTS AND PRINTS FOR SALE AT THE CHAMBER!
DESCRIPTION:SOLAR 17 @ Lake Murray\n\nExperience the longest total eclipse on the East Coast in Columbia\, SC!\n\n2 minutes and 36 seconds of darkness!
X-ALT-DESC;FMTTYPE=text/html:SOLAR 17 @ Lake Murray<br />\nExperience the longest total eclipse on the East Coast in Columbia\, SC!<br />\n2 minutes and 36 seconds of darkness!
LOCATION:Lake Murray Dam
UID:e.1333.2884
SEQUENCE:3
DTSTAMP:20260424T095450Z
URL:https://business.greaterirmochamber.com/events/details/eclipse-t-shirts-and-prints-for-sale-at-the-chamber-2884
END:VEVENT

END:VCALENDAR
