BEGIN:VCALENDAR
VERSION:2.0
PRODID:-//ChamberMaster//Event Calendar 2.0//EN
METHOD:PUBLISH
X-PUBLISHED-TTL:P3D
REFRESH-INTERVAL:P3D
CALSCALE:GREGORIAN
BEGIN:VEVENT
DTSTART:20170829T220000Z
DTEND:20170829T233000Z
X-MICROSOFT-CDO-ALLDAYEVENT:FALSE
SUMMARY:Educational Seminar
DESCRIPTION:Educational Seminar:  Understanding Today's Retirement Income Challenges.\n\nHosted by:   J D Hacker  Prudential Financial\n\nGuest Speaker: Meaghan DePalma\n\nThis workshop will help you:\n\n- Understand the major challenges of retirement\n\n- Create a plan to help address these challenges.\n\nSpace is Limited.  Please RSVP to 803-250-4797 or jd.hacker@prudential.com
X-ALT-DESC;FMTTYPE=text/html:Educational Seminar:&nbsp\; Understanding Today&#39\;s Retirement Income Challenges.<br />\nHosted by:&nbsp\;&nbsp\; J D Hacker&nbsp\; Prudential Financial<br />\nGuest Speaker: Meaghan DePalma<br />\nThis workshop will help you:<br />\n- Understand the major challenges of retirement<br />\n- Create a plan to help address these challenges.<br />\nSpace is Limited.&nbsp\; Please RSVP to 803-250-4797 or jd.hacker@prudential.com<br />\n&nbsp\;
LOCATION:The Melting Pot 1410 Colonial Life Blvd Columbia\, SC 29210
UID:e.1333.2894
SEQUENCE:3
DTSTAMP:20260424T111656Z
URL:https://business.greaterirmochamber.com/events/details/educational-seminar-2894
END:VEVENT

END:VCALENDAR
