BEGIN:VCALENDAR
VERSION:2.0
PRODID:-//ChamberMaster//Event Calendar 2.0//EN
METHOD:PUBLISH
X-PUBLISHED-TTL:P3D
REFRESH-INTERVAL:P3D
CALSCALE:GREGORIAN
BEGIN:VEVENT
DTSTART:20160824T160000Z
DTEND:20160824T164500Z
X-MICROSOFT-CDO-ALLDAYEVENT:FALSE
SUMMARY:Educational Seminar: Maximizing Social Security Strategies
DESCRIPTION:Educational Seminar: Maximizing Social Security Strategies\n\nPresented by Prudential Financial - J.D. Hacker\n\nLunch provided. Please register.
X-ALT-DESC;FMTTYPE=text/html:Educational Seminar: Maximizing Social Security Strategies<br />\nPresented by Prudential Financial - J.D. Hacker<br />\nLunch provided. Please register.
LOCATION:Irmo Chamber of Commerce 1235 Columbia Avenue Irmo\, SC 29063
UID:e.1333.2435
SEQUENCE:3
DTSTAMP:20260425T033946Z
URL:https://business.greaterirmochamber.com/events/details/educational-seminar-maximizing-social-security-strategies-08-24-2016-2435
END:VEVENT

END:VCALENDAR
