BEGIN:VCALENDAR
VERSION:2.0
PRODID:-//ChamberMaster//Event Calendar 2.0//EN
METHOD:PUBLISH
X-PUBLISHED-TTL:P3D
REFRESH-INTERVAL:P3D
CALSCALE:GREGORIAN
BEGIN:VEVENT
DTSTART:20190404T170000Z
DTEND:20190404T190000Z
X-MICROSOFT-CDO-ALLDAYEVENT:FALSE
SUMMARY:Email Workshop: The Power of the Inbox
DESCRIPTION:The Power of the Inbox: How to Grow Your Business with Email Marketing\n\n\n\nThe inbox remains the most direct method for marking online and statistically outperforms every other medium by a landslide!\n\n\n\nThis session is a fresh overview of what email marketing is in 2019\, and the best practices on how to leverage email to drive more business.\n\n\n\nParticipants will walk away with an understanding of:\n\n	What is Email Marketing in 2019?\n	What types of emails to send to get the best results.\n	How to connect with people on mobile devices.\n	How to convert email subscribers into sales or support.\n	What is Content Marketing and how can it best be leveraged?\n	Using words and images to craft your messages.\n	Expanding your reach from every campaign you send.\n	Subject line best practices and when to send your emails.\n	Understanding how connected email & social media are...they are to be done together.\n	What types of tools might be useful to help you save time and resources.\n	Tips and secrets to get your emails opened\, engaged and successful.\n\n\n\n\n\nAaron Wesley Means is a communication specialist\, internet marketer\, and CEO of ACTIVATE Business Solutions. He is a four time Award winner\, including for "Constant Contact Solution Provider of the Year" in the SE. He has a B.A. in Communication from Arizona State University. Aaron and ACTIVATE have trained thousands of businesses via Chambers of Commerce through seminars\, webinars\, and conferences\, while delivering a full suite of custom Internet Marketing services and solutions for businesses of all shapes and sizes.
X-ALT-DESC;FMTTYPE=text/html:<strong><span style="letter-spacing:0.4pt\;"><span style="color:#1e0a3c\;"><span style="font-family:helvetica\,sans-serif\;"><span style="font-size:13pt\;">The Power of the Inbox: How to Grow Your Business with Email Marketing</span></span></span></span></strong><br />\n<br />\n<span style="font-size:12px\;"><span style="font-size:14px\;"><span style="letter-spacing:0.4pt\;">The inbox remains the most direct method for marking online and statistically outperforms every other medium by a landslide!</span><br />\n<br />\n<span style="letter-spacing:0.4pt\;">T</span><span style="letter-spacing:0.4pt\;">his session is a fresh overview of&nbsp\;<em>what&nbsp\;<strong>email marketing</strong>&nbsp\;is in 2019</em>\, and the best practices on how to leverage email to&nbsp\;<em>drive more business</em>.</span></span></span><br />\n<br />\nParticipants will walk away with an understanding of:\n<ul>\n	<li>What is Email Marketing in 2019?</li>\n	<li>What types of emails to send to get the best results.</li>\n	<li>How to connect with people on mobile devices.</li>\n	<li>How to convert email subscribers into sales or support.</li>\n	<li>What is Content Marketing and how can it best be leveraged?</li>\n	<li>Using words and images to craft your messages.</li>\n	<li>Expanding your reach from every campaign you send.</li>\n	<li>Subject line best practices and when to send your emails.</li>\n	<li>Understanding how connected email &amp\; social media are...they are to be done together.</li>\n	<li>What types of tools might be useful to help you save time and resources.</li>\n	<li>Tips and secrets to get your emails opened\, engaged and successful.</li>\n</ul>\n<br />\n<br />\n<i style="caret-color: rgb(0\, 0\, 0)\; color: rgb(0\, 0\, 0)\; font-size: 16px\; font-family: &quot\;Times New Roman&quot\;\, serif\;"><span style="font-size: 11.5pt\; font-family: Helvetica\, sans-serif\; color: rgb(111\, 114\, 135)\; letter-spacing: 0.4pt\;">Aaron Wesley Means is a communication specialist\, internet marketer\, and CEO of&nbsp\;ACTIVATE Business Solutions. He is a four time Award winner\, including for &quot\;Constant Contact Solution Provider of the Year&quot\; in the SE. He has a B.A. in Communication from Arizona State University.&nbsp\;Aaron and ACTIVATE have trained thousands of businesses via Chambers of Commerce through seminars\, webinars\, and conferences\, while delivering a full suite of custom Internet Marketing services and solutions for businesses of all shapes and sizes.</span></i><br />\n<br />\n&nbsp\;
LOCATION:Greater Irmo Chamber 1235 Columbia Ave. Irmo\, SC 29063
UID:e.1333.3306
SEQUENCE:3
DTSTAMP:20260423T023017Z
URL:https://business.greaterirmochamber.com/events/details/email-workshop-the-power-of-the-inbox-3306
END:VEVENT

END:VCALENDAR
