BEGIN:VCALENDAR
VERSION:2.0
PRODID:-//ChamberMaster//Event Calendar 2.0//EN
METHOD:PUBLISH
X-PUBLISHED-TTL:P3D
REFRESH-INTERVAL:P3D
CALSCALE:GREGORIAN
BEGIN:VEVENT
DTSTART:20170511T210000Z
DTEND:20170511T230000Z
X-MICROSOFT-CDO-ALLDAYEVENT:FALSE
SUMMARY:EmbroidMe/Fully Promoted Business After Hours
DESCRIPTION:EmbroidMe becomes FULLY PROMOTED!\n\nJoin us to celebrate EmbroidMe's new branding  with a Business After Hours and  Ribbon Cutting.
X-ALT-DESC;FMTTYPE=text/html:EmbroidMe becomes FULLY PROMOTED!<br />\nJoin us to celebrate EmbroidMe&#39\;s new branding&nbsp\; with a Business After Hours and &#8203\;Ribbon Cutting.
LOCATION:7249 St. Andrews Road\, Suite 300 Columbia\, SC
UID:e.1333.2553
SEQUENCE:3
DTSTAMP:20260424T141913Z
URL:https://business.greaterirmochamber.com/events/details/embroidme-fully-promoted-business-after-hours-2553
END:VEVENT

END:VCALENDAR
