BEGIN:VCALENDAR
VERSION:2.0
PRODID:-//ChamberMaster//Event Calendar 2.0//EN
METHOD:PUBLISH
X-PUBLISHED-TTL:P3D
REFRESH-INTERVAL:P3D
CALSCALE:GREGORIAN
BEGIN:VEVENT
DTSTART:20251119T210000Z
DTEND:20251119T223000Z
X-MICROSOFT-CDO-ALLDAYEVENT:FALSE
SUMMARY:Emerging Professionals Council Interest Meeting
DESCRIPTION:Empowering the Next Generation of Business Leaders\n\nThe Irmo Chamber's Emerging Professionals Council is designed for business community members aged 20 35 who are ready to invest in their future\, develop business acumen and polish their networking skills-#FunChamber style! Through networking events\, professional development opportunities\, and community involvement\, participants build valuable connections and gain the tools to grow both personally and professionally. Join us and take the next step in your professional growth journey.\n\nJoin us on Wednesday\, November 19th from 4PM-5:30PM for an interest meeting\, fellowship and refreshments at the Irmo Chamber House.  This is a free event to professionals 20-35.
X-ALT-DESC;FMTTYPE=text/html:<p class="p1" style="font-size: 12pt\; caret-color: rgb(0\, 0\, 0)\; color: rgb(0\, 0\, 0)\; margin-right: 0in\; margin-left: 0in\; font-family: Aptos\, sans-serif\;"><span style="font-family: Verdana\, sans-serif\; font-size: 14pt\;"><b>Empowering the Next Generation of Business Leaders</b></span></p>\n\n<p class="p2" style="font-size: 12pt\; caret-color: rgb(0\, 0\, 0)\; color: rgb(0\, 0\, 0)\; margin-right: 0in\; margin-left: 0in\; font-family: Aptos\, sans-serif\;"><span style="font-family: Verdana\, sans-serif\; font-size: 14pt\;">The Irmo Chamber&rsquo\;s&nbsp\;<b>Emerging Professionals Council</b>&nbsp\;is designed for business community members aged 20&ndash\;35 who are ready to invest in their future\, develop business acumen and polish their networking skills-#FunChamber style! Through networking events\, professional development opportunities\, and community involvement\, participants build valuable connections and gain the tools to grow both personally and professionally. Join us and take the next step in your professional growth journey.</span></p>\n\n<p class="p2" style="font-size: 12pt\; caret-color: rgb(0\, 0\, 0)\; color: rgb(0\, 0\, 0)\; margin-right: 0in\; margin-left: 0in\; font-family: Aptos\, sans-serif\;"><span style="font-family: Verdana\, sans-serif\; font-size: 14pt\;">Join us on Wednesday\, November 19<sup>th</sup>&nbsp\;from 4PM-5:30PM for an interest meeting\, fellowship and refreshments at the Irmo Chamber House.&nbsp\; This is a free event to professionals 20-35.</span></p>\n
LOCATION:Irmo Chamber House 1235 Columbia Ave. Irmo\, SC 29063
UID:e.1333.6233
SEQUENCE:3
DTSTAMP:20260423T010949Z
URL:https://business.greaterirmochamber.com/events/details/emerging-professionals-council-interest-meeting-6233
END:VEVENT

END:VCALENDAR
