BEGIN:VCALENDAR
VERSION:2.0
PRODID:-//ChamberMaster//Event Calendar 2.0//EN
METHOD:PUBLISH
X-PUBLISHED-TTL:P3D
REFRESH-INTERVAL:P3D
CALSCALE:GREGORIAN
BEGIN:VEVENT
DTSTART:20260715T123000Z
DTEND:20260715T140000Z
X-MICROSOFT-CDO-ALLDAYEVENT:FALSE
SUMMARY:Emerging Professionals Council: July Meeting
DESCRIPTION:For our July meeting\, Monica Suber-Duffy\, a leadership and career development coach will present a workshop titled Leading From Within: Aligning Who You Are With How You Lead. This highly interactive\, reflection based session is designed to help participants connect their values\, leadership approach and next steps.  If you've never met Monica\, she has a ton of energy and her workshops keep you engaged!\n\n\n\nThe Emerging Professionals Council of the Irmo Chamber is open to all and programming is targeted for professionals age 20-35. The mission of the EPC is to engage and develop emerging professionals by providing access to leadership opportunities\, networking\, and resources that strengthen our local business community.\n\n\n\nCoffee and doughnuts will be available. Join our GroupMe to stay informed.
X-ALT-DESC;FMTTYPE=text/html:<span style="font-size:18px\;"><span style="font-family:verdana\;">For our July meeting\, Monica Suber-Duffy\, a leadership and career development coach will present a workshop titled <strong>Leading From Within: Aligning Who You Are With How You Lead.&nbsp\;</strong>This highly interactive\, reflection based session is designed to help participants connect their values\, leadership approach and next steps. &nbsp\;If you&#39\;ve never met Monica\, she has a ton of energy and her workshops keep you engaged!<br />\n<br />\n<span style="caret-color: rgb(10\, 10\, 10)\; color: rgb(10\, 10\, 10)\;">The&nbsp\;<strong>Emerging Professionals Council</strong>&nbsp\;of the Irmo Chamber is open to all and programming is targeted for professionals age 20-35.&nbsp\;</span></span></span><span style="font-family: verdana\; font-size: 18px\; caret-color: rgb(0\, 0\, 0)\; color: rgb(0\, 0\, 0)\;">The mission of the EPC is to engage and develop emerging professionals by providing access to leadership opportunities\, networking\, and resources that strengthen our local business community.<br />\n<br />\nCoffee and doughnuts will be available. Join our&nbsp\;<a href="https://groupme.com/join_group/112909290/pfgOkylD">GroupMe</a>&nbsp\;to stay informed.</span><br />\n<br />\n<br style="caret-color: rgb(0\, 0\, 0)\; color: rgb(0\, 0\, 0)\;" />\n&nbsp\;
LOCATION:Upstairs Training Room Honda of Lake Murray 750 Western Lane\, Irmo Seating is limited and advance registration is required.
UID:e.1333.6526
SEQUENCE:3
DTSTAMP:20260422T171443Z
URL:https://business.greaterirmochamber.com/events/details/emerging-professionals-council-july-meeting-6526
END:VEVENT

END:VCALENDAR
