BEGIN:VCALENDAR
VERSION:2.0
PRODID:-//ChamberMaster//Event Calendar 2.0//EN
METHOD:PUBLISH
X-PUBLISHED-TTL:P3D
REFRESH-INTERVAL:P3D
CALSCALE:GREGORIAN
BEGIN:VEVENT
DTSTART:20260527T123000Z
DTEND:20260527T140000Z
X-MICROSOFT-CDO-ALLDAYEVENT:FALSE
SUMMARY:Emerging Professionals Council: May Meeting
DESCRIPTION:For our May meeting\, we will be focusing on the art of public speaking.  Join Irmo Town Councilman and public speaking coach\, Mike Ward\, for this informative and interactive session full of tips\, tricks and best practices to help you improve and hone your public speaking skillset.\n\n\n\nThe Emerging Professionals Council of the Irmo Chamber is open to all and programming is targeted for professionals age 20-35. The mission of the EPC is to engage and develop emerging professionals by providing access to leadership opportunities\, networking\, and resources that strengthen our local business community.\n\n\n\nCoffee and doughnuts will be available. Join our GroupMe to stay informed.
X-ALT-DESC;FMTTYPE=text/html:<span style="font-size:18px\;"><span style="font-family:verdana\;">For our May meeting\, we will be focusing on the art of public speaking. &nbsp\;Join Irmo Town Councilman and public speaking coach\, Mike Ward\, for this informative and interactive session full of tips\, tricks and best practices to help you improve and hone your public speaking skillset.<br />\n<br />\n<span style="caret-color: rgb(10\, 10\, 10)\; color: rgb(10\, 10\, 10)\;">The <strong>Emerging Professionals Council</strong> of the Irmo Chamber is open to all and programming is targeted for professionals age 20-35.&nbsp\;</span></span></span><span style="font-family: verdana\; font-size: 18px\; caret-color: rgb(0\, 0\, 0)\; color: rgb(0\, 0\, 0)\;">The mission of the EPC is to engage and develop emerging professionals by providing access to leadership opportunities\, networking\, and resources that strengthen our local business community.<br />\n<br />\nCoffee and doughnuts will be available. Join our <a href="https://groupme.com/join_group/112909290/pfgOkylD">GroupMe</a> to stay informed.</span><br />\n&nbsp\;
LOCATION:Upstairs Training Room Honda of Lake Murray 750 Western Lane\, Irmo Seating is limited and advance registration is required.
UID:e.1333.6524
SEQUENCE:3
DTSTAMP:20260421T231341Z
URL:https://business.greaterirmochamber.com/events/details/emerging-professionals-council-may-meeting-6524
END:VEVENT

END:VCALENDAR
