BEGIN:VCALENDAR
VERSION:2.0
PRODID:-//ChamberMaster//Event Calendar 2.0//EN
METHOD:PUBLISH
X-PUBLISHED-TTL:P3D
REFRESH-INTERVAL:P3D
CALSCALE:GREGORIAN
BEGIN:VEVENT
DTSTART:20190910T153000Z
DTEND:20190910T170000Z
X-MICROSOFT-CDO-ALLDAYEVENT:FALSE
SUMMARY:Employee Engagement Boot Camp
DESCRIPTION:United Way's Learning Lab Leadership Series (3LS) provides relevant\, interactive sessions on the trends and day-to-day challenges that local\, small business leaders face every day. The event will host guest panelists to discuss their experiences with employee engagement in the workplace.\n\nGuest panelists:\n\n\n	Robin Revels\, Lexington Medical Center\n	Christina Thoesen\, Terminix\n	Tara Davis\, AppleOne\n	Erin Vassallo\, AppleOne (Moderator)
X-ALT-DESC;FMTTYPE=text/html:<p><strong>United Way&#39\;s Learning Lab Leadership Series (3LS)</strong> provides&nbsp\;relevant\, interactive sessions on the trends and day-to-day challenges that local\, small business leaders face every day. The event will host guest panelists to discuss their experiences with employee engagement in the workplace.</p>\n\n<p>Guest panelists:</p>\n\n<ul>\n	<li><strong>Robin Revels</strong>\, Lexington Medical Center</li>\n	<li><strong>Christina Thoesen</strong>\, Terminix</li>\n	<li><strong>Tara Davis</strong>\, AppleOne</li>\n	<li><strong>Erin Vassallo</strong>\, AppleOne (Moderator)</li>\n</ul>\n
LOCATION:United Way of the Midlands 1818 Blanding Street Columbia\, SC 29201
UID:e.1333.3363
SEQUENCE:3
DTSTAMP:20260422T190034Z
URL:https://business.greaterirmochamber.com/events/details/employee-engagement-boot-camp-3363
END:VEVENT

END:VCALENDAR
