BEGIN:VCALENDAR
VERSION:2.0
PRODID:-//ChamberMaster//Event Calendar 2.0//EN
METHOD:PUBLISH
X-PUBLISHED-TTL:P3D
REFRESH-INTERVAL:P3D
CALSCALE:GREGORIAN
BEGIN:VEVENT
DTSTART:20190911T130000Z
DTEND:20190911T190000Z
X-MICROSOFT-CDO-ALLDAYEVENT:FALSE
SUMMARY:Engage Richland: Connecting Small Business to Financing and Contracting Opportunities
DESCRIPTION:The Richland County Office of Small Business Opportunity presents "Engage Richland: Connecting Small Businesses to Financing and Contracting Opportunities. This is an opportunity for small businesses to learn about financing opportunities and qualifications from the banks themselves. There is also a pitch competition where there will be a cash prize awarded to the winner. Also\, don't miss your opportunity to speak with Richland County Departments about their supplier needs and services!
X-ALT-DESC;FMTTYPE=text/html:The Richland County Office of Small Business Opportunity presents &quot\;Engage Richland: Connecting Small Businesses to Financing and Contracting Opportunities. This is an opportunity for small businesses to learn about financing opportunities and qualifications from the banks themselves. There is also a pitch competition where there will be a cash prize awarded to the winner. Also\, don&#39\;t miss your opportunity to speak with Richland County Departments about their supplier needs and services!
LOCATION:R2i2 Institute of Innovation 763 Fashion Drive\, Columbia\, SC 29223
UID:e.1333.3350
SEQUENCE:3
DTSTAMP:20260422T190715Z
URL:https://business.greaterirmochamber.com/events/details/engage-richland-connecting-small-business-to-financing-and-contracting-opportunities-3350
END:VEVENT

END:VCALENDAR
