BEGIN:VCALENDAR
VERSION:2.0
PRODID:-//ChamberMaster//Event Calendar 2.0//EN
METHOD:PUBLISH
X-PUBLISHED-TTL:P3D
REFRESH-INTERVAL:P3D
CALSCALE:GREGORIAN
BEGIN:VEVENT
DTSTART:20170720T150000Z
DTEND:20170720T180000Z
X-MICROSOFT-CDO-ALLDAYEVENT:FALSE
SUMMARY:ERA Wilder Presents LUNCH FOR A CAUSE
DESCRIPTION:LUNCH FOR A CAUSE/ERA Wilder\n\nAll proceeds benefit the Muscular Dystrophy Association and their commitment to children with MDA\, ALS\, and other related diseases.\n\nLunch served by Size Matter BBQ Bus (Choice of either chicken or pork \,2 sides & drink) $12\n\nBake sale and Raffle\, raffle ticket included with purchase!
X-ALT-DESC;FMTTYPE=text/html:LUNCH FOR A CAUSE/ERA Wilder<br />\nAll proceeds benefit the Muscular Dystrophy Association and their commitment to children with MDA\, ALS\, and other related diseases.<br />\nLunch served by Size Matter BBQ Bus (Choice of either chicken or pork \,2 sides &amp\; drink) $12<br />\nBake sale and Raffle\, raffle ticket included with purchase!
LOCATION:Lunch Pick Up Location: ERA Wilder Realty 1084 Lake Murray Blvd. Irmo\, SC
UID:e.1333.2798
SEQUENCE:3
DTSTAMP:20260424T113522Z
URL:https://business.greaterirmochamber.com/events/details/era-wilder-presents-lunch-for-a-cause-2798
END:VEVENT

END:VCALENDAR
