BEGIN:VCALENDAR
VERSION:2.0
PRODID:-//ChamberMaster//Event Calendar 2.0//EN
METHOD:PUBLISH
X-PUBLISHED-TTL:P3D
REFRESH-INTERVAL:P3D
CALSCALE:GREGORIAN
BEGIN:VEVENT
DTSTART:20160928T153000Z
DTEND:20160928T163000Z
X-MICROSOFT-CDO-ALLDAYEVENT:FALSE
SUMMARY:ewirelessgear Ribbon Cutting
DESCRIPTION:Join us to welcome ewirelessgear to our Irmo Chamber.  A light lunch will be provided.
X-ALT-DESC;FMTTYPE=text/html:Join us to welcome ewirelessgear to our Irmo&nbsp\;Chamber. &nbsp\;A light lunch will be provided.
LOCATION:285 Columbiana Drive
UID:e.1333.2479
SEQUENCE:3
DTSTAMP:20260425T020342Z
URL:https://business.greaterirmochamber.com/events/details/ewirelessgear-ribbon-cutting-2479
END:VEVENT

END:VCALENDAR
