BEGIN:VCALENDAR
VERSION:2.0
PRODID:-//ChamberMaster//Event Calendar 2.0//EN
METHOD:PUBLISH
X-PUBLISHED-TTL:P3D
REFRESH-INTERVAL:P3D
CALSCALE:GREGORIAN
BEGIN:VEVENT
DTSTART:20170427T210000Z
DTEND:20170428T010000Z
X-MICROSOFT-CDO-ALLDAYEVENT:FALSE
SUMMARY:Exit Palmetto Real Estate Grand Opening and Ribbon Cutting
DESCRIPTION:Join us to welcome Exit Palmetto Real Estate!\n\nRibbon Cutting at 5:30 p.m.\n\nBBQ\, Beer and Band!!!
X-ALT-DESC;FMTTYPE=text/html:Join us to welcome Exit Palmetto Real Estate!<br />\nRibbon Cutting at 5:30 p.m.<br />\nBBQ\, Beer and Band!!!
LOCATION:1720 Dutch Fork Road\, Suite F Irmo\, SC 29063
UID:e.1333.2532
SEQUENCE:3
DTSTAMP:20260424T155432Z
URL:https://business.greaterirmochamber.com/events/details/exit-palmetto-real-estate-grand-opening-and-ribbon-cutting-2532
END:VEVENT

END:VCALENDAR
